BEGIN:VCALENDAR
PRODID:-//eluceo/ical//2.0/EN
VERSION:2.0
CALSCALE:GREGORIAN
BEGIN:VEVENT
UID:ca3a2f1d8c58979ff8a6e14ace0d3231
DTSTAMP:20260424T022212Z
SUMMARY:BT Lunch & Learn
DESCRIPTION:Jewish Federation of Greater Naples\nCommunity Calendar\nhttps:
 //jewishnaples.org/calendar/bt-lunch--learn-1755799170\n\nBeth Tikvah
DTSTART;TZID=America/New_York:20250902T121500
DTEND;TZID=America/New_York:20250902T141500
END:VEVENT
END:VCALENDAR
