BEGIN:VCALENDAR
PRODID:-//eluceo/ical//2.0/EN
VERSION:2.0
CALSCALE:GREGORIAN
BEGIN:VEVENT
UID:444f52828d0bb1c142ae666d1c2eb7cc
DTSTAMP:20260424T000017Z
SUMMARY:BT Lecturer Sam Geist
DESCRIPTION:Jewish Federation of Greater Naples\nCommunity Calendar\nhttps:
 //jewishnaples.org/calendar/bt-lecturer-sam-geist\n\nBeth Tikvah\n\nSam Ge
 ist Lecture
DTSTART;TZID=America/New_York:20180208T193000
DTEND;TZID=America/New_York:20180208T213000
END:VEVENT
END:VCALENDAR
