BEGIN:VCALENDAR
PRODID:-//eluceo/ical//2.0/EN
VERSION:2.0
CALSCALE:GREGORIAN
BEGIN:VEVENT
UID:abf9b1a9eb93daf7f33c2c7d309956c8
DTSTAMP:20260423T170103Z
SUMMARY:BT Lecture
DESCRIPTION:Jewish Federation of Greater Naples\nCommunity Calendar\nhttps:
 //jewishnaples.org/calendar/bt-lecture2018\n\nBeth Tikvah Lecture\n\nJune 
 Sochen and Joyce Schrager
DTSTART;TZID=America/New_York:20180222T193000
DTEND;TZID=America/New_York:20180222T210000
END:VEVENT
END:VCALENDAR
