BEGIN:VCALENDAR
PRODID:-//eluceo/ical//2.0/EN
VERSION:2.0
CALSCALE:GREGORIAN
BEGIN:VEVENT
UID:bc9eae5924eaa9e7f8d17b0832b42cc9
DTSTAMP:20260423T162944Z
SUMMARY:BT Lecture
DESCRIPTION:Jewish Federation of Greater Naples\nCommunity Calendar\nhttps:
 //jewishnaples.org/calendar/bt-lecture1\n\nBeth Tikvah\n\npresents\n\nGera
 ld Ziedenberg
DTSTART;TZID=America/New_York:20180201T193000
DTEND;TZID=America/New_York:20180201T210000
END:VEVENT
END:VCALENDAR
