BEGIN:VCALENDAR
PRODID:-//eluceo/ical//2.0/EN
VERSION:2.0
CALSCALE:GREGORIAN
BEGIN:VEVENT
UID:16f8bc465a79e2c6f111f74f0c551614
DTSTAMP:20260423T111234Z
SUMMARY:BT Lecture Jan.
DESCRIPTION:Jewish Federation of Greater Naples\nCommunity Calendar\nhttps:
 //jewishnaples.org/calendar/bt-lecture-jan\n\nBeth Tikvah
DTSTART;TZID=America/New_York:20170112T193000
DTEND;TZID=America/New_York:20170112T193000
END:VEVENT
END:VCALENDAR
