BEGIN:VCALENDAR
PRODID:-//eluceo/ical//2.0/EN
VERSION:2.0
CALSCALE:GREGORIAN
BEGIN:VEVENT
UID:501188fa1383db2dfac98e09d99fc9cc
DTSTAMP:20260422T102714Z
SUMMARY:BT Lecture Feb
DESCRIPTION:Jewish Federation of Greater Naples\nCommunity Calendar\nhttps:
 //jewishnaples.org/calendar/bt-lecture-feb\n\nBeth Tikvah
DTSTART;TZID=America/New_York:20170209T193000
DTEND;TZID=America/New_York:20170209T193000
END:VEVENT
END:VCALENDAR
