BEGIN:VCALENDAR
PRODID:-//eluceo/ical//2.0/EN
VERSION:2.0
CALSCALE:GREGORIAN
BEGIN:VEVENT
UID:4263083e0329403ed44115cb92087c16
DTSTAMP:20260422T204216Z
SUMMARY:BT Lecture
DESCRIPTION:Jewish Federation of Greater Naples\nCommunity Calendar\nhttps:
 //jewishnaples.org/calendar/bt-lecture-1588171973\n\nBeth Tikvah\nLecture
DTSTART;TZID=America/New_York:20210311T193000
DTEND;TZID=America/New_York:20210311T213000
END:VEVENT
END:VCALENDAR
