BEGIN:VCALENDAR
PRODID:-//eluceo/ical//2.0/EN
VERSION:2.0
CALSCALE:GREGORIAN
BEGIN:VEVENT
UID:84c524387ca63c0a93840f750a55fabd
DTSTAMP:20260422T100224Z
SUMMARY:BT Learn to read Hebrew
DESCRIPTION:Jewish Federation of Greater Naples\nCommunity Calendar\nhttps:
 //jewishnaples.org/calendar/bt-learn-to-read-hebrew-1588085530\n\nBeth Tik
 vah\nLearn to read hebrew in a day
DTSTART;TZID=America/New_York:20210131T100000
DTEND;TZID=America/New_York:20210131T160000
END:VEVENT
END:VCALENDAR
