BEGIN:VCALENDAR
PRODID:-//eluceo/ical//2.0/EN
VERSION:2.0
CALSCALE:GREGORIAN
BEGIN:VEVENT
UID:d646596402388079e09d6754b7e3626d
DTSTAMP:20260423T090403Z
SUMMARY:BT Jewish History
DESCRIPTION:Jewish Federation of Greater Naples\nCommunity Calendar\nhttps:
 //jewishnaples.org/calendar/bt-jewish-history-1588171562\n\nBeth Tikvah\nJ
 ewish History
DTSTART;TZID=America/New_York:20210303T121500
DTEND;TZID=America/New_York:20210303T131500
END:VEVENT
END:VCALENDAR
