BEGIN:VCALENDAR
PRODID:-//eluceo/ical//2.0/EN
VERSION:2.0
CALSCALE:GREGORIAN
BEGIN:VEVENT
UID:80555947b740a41437be30a5f84916de
DTSTAMP:20260422T142909Z
SUMMARY:BT Jewish History
DESCRIPTION:Jewish Federation of Greater Naples\nCommunity Calendar\nhttps:
 //jewishnaples.org/calendar/bt-jewish-history-1588170649\n\nBeth Tikvah\nJ
 ewish History
DTSTART;TZID=America/New_York:20210224T121500
DTEND;TZID=America/New_York:20210224T141500
END:VEVENT
END:VCALENDAR
