BEGIN:VCALENDAR
PRODID:-//eluceo/ical//2.0/EN
VERSION:2.0
CALSCALE:GREGORIAN
BEGIN:VEVENT
UID:f9b52cee0d4a7254a903fc2db8ae5010
DTSTAMP:20260422T180433Z
SUMMARY:BT Jewish Film Festival (1)
DESCRIPTION:Jewish Federation of Greater Naples\nCommunity Calendar\nhttps:
 //jewishnaples.org/calendar/bt-jewish-film-festival-1\n\nBeth Tikvah\n\nJe
 wish Film Festival
DTSTART;TZID=America/New_York:20170226T190000
DTEND;TZID=America/New_York:20170226T210000
END:VEVENT
END:VCALENDAR
