BEGIN:VCALENDAR
PRODID:-//eluceo/ical//2.0/EN
VERSION:2.0
CALSCALE:GREGORIAN
BEGIN:VEVENT
UID:3995b2f0e14275b4da99525322e9af00
DTSTAMP:20260422T044408Z
SUMMARY:BT Jewish Ethics
DESCRIPTION:Jewish Federation of Greater Naples\nCommunity Calendar\nhttps:
 //jewishnaples.org/calendar/bt-jewish-ethics-1588170230\n\nBeth Tikvah\nJe
 wish Ethics
DTSTART;TZID=America/New_York:20210210T121500
DTEND;TZID=America/New_York:20210210T131500
END:VEVENT
END:VCALENDAR
