BEGIN:VCALENDAR
PRODID:-//eluceo/ical//2.0/EN
VERSION:2.0
CALSCALE:GREGORIAN
BEGIN:VEVENT
UID:a6327e8b27e310a0021d3493c8408586
DTSTAMP:20260424T075417Z
SUMMARY:BT Jewish Ethics
DESCRIPTION:Jewish Federation of Greater Naples\nCommunity Calendar\nhttps:
 //jewishnaples.org/calendar/bt-jewish-ethics-1588170181\n\nBeth Tikvah\nJe
 wish Ethics
DTSTART;TZID=America/New_York:20210203T121500
DTEND;TZID=America/New_York:20210203T131500
END:VEVENT
END:VCALENDAR
