BEGIN:VCALENDAR
PRODID:-//eluceo/ical//2.0/EN
VERSION:2.0
CALSCALE:GREGORIAN
BEGIN:VEVENT
UID:ef70da157cd1dd784991aca2871c0a07
DTSTAMP:20260423T084652Z
SUMMARY:BT Jewish Ethics
DESCRIPTION:Jewish Federation of Greater Naples\nCommunity Calendar\nhttps:
 //jewishnaples.org/calendar/bt-jewish-ethics-1588084961\n\nBeth Tikvah\nJe
 wish Ethics
DTSTART;TZID=America/New_York:20210127T121500
DTEND;TZID=America/New_York:20210127T131500
END:VEVENT
END:VCALENDAR
