BEGIN:VCALENDAR
PRODID:-//eluceo/ical//2.0/EN
VERSION:2.0
CALSCALE:GREGORIAN
BEGIN:VEVENT
UID:3c4676b69e33711fc886cc38fae09aea
DTSTAMP:20260423T103807Z
SUMMARY:BT Jewish Ethics
DESCRIPTION:Jewish Federation of Greater Naples\nCommunity Calendar\nhttps:
 //jewishnaples.org/calendar/bt-jewish-ethics-1588084813\n\nBeth Tikvah\nJe
 wish Ethics\nRabbi Chorny
DTSTART;TZID=America/New_York:20210120T121500
DTEND;TZID=America/New_York:20210120T131500
END:VEVENT
END:VCALENDAR
