BEGIN:VCALENDAR
PRODID:-//eluceo/ical//2.0/EN
VERSION:2.0
CALSCALE:GREGORIAN
BEGIN:VEVENT
UID:5f6adad3c85a9f381edbdf74026bc1fe
DTSTAMP:20260423T211045Z
SUMMARY:BT Jeff Margolis Lecture
DESCRIPTION:Jewish Federation of Greater Naples\nCommunity Calendar\nhttps:
 //jewishnaples.org/calendar/bt-jeff-margolis-lecture\n\nBeth Tikvah\n\nPre
 sents\n\nJeff Margolis
DTSTART;TZID=America/New_York:20171130T193000
DTEND;TZID=America/New_York:20171130T210000
END:VEVENT
END:VCALENDAR
