BEGIN:VCALENDAR
PRODID:-//eluceo/ical//2.0/EN
VERSION:2.0
CALSCALE:GREGORIAN
BEGIN:VEVENT
UID:21b8f9cc5c49c0664efc82f105cae80e
DTSTAMP:20260423T143711Z
SUMMARY:BT Honors Veterans
DESCRIPTION:Jewish Federation of Greater Naples\nCommunity Calendar\nhttps:
 //jewishnaples.org/calendar/bt-honors-veterans\n\nBeth Tikvah\n\nVeterans 
 Day Service & Breakfast honoring Jewish War Veterans\n\n9 AM
DTSTART;TZID=America/New_York:20181111T090000
DTEND;TZID=America/New_York:20181111T110000
END:VEVENT
END:VCALENDAR
