BEGIN:VCALENDAR
PRODID:-//eluceo/ical//2.0/EN
VERSION:2.0
CALSCALE:GREGORIAN
BEGIN:VEVENT
UID:589db322ea80c7f480e2cf3bfbf40a99
DTSTAMP:20260424T043532Z
SUMMARY:BT Hanukkah Party
DESCRIPTION:Jewish Federation of Greater Naples\nCommunity Calendar\nhttps:
 //jewishnaples.org/calendar/bt-hanukkah-party-1657896676\n\nBeth Tikvah Ha
 nukkah Party
DTSTART;TZID=America/New_York:20221218T173000
DTEND;TZID=America/New_York:20221218T193000
END:VEVENT
END:VCALENDAR
