BEGIN:VCALENDAR
PRODID:-//eluceo/ical//2.0/EN
VERSION:2.0
CALSCALE:GREGORIAN
BEGIN:VEVENT
UID:9560ec56e1c4075f262522d80253a245
DTSTAMP:20260420T181846Z
SUMMARY:BT Hammetz Bash
DESCRIPTION:Jewish Federation of Greater Naples\nCommunity Calendar\nhttps:
 //jewishnaples.org/calendar/bt-hammetz-bash\n\nBeth TIkvah
DTSTART;TZID=America/New_York:20170409T180000
DTEND;TZID=America/New_York:20170409T180000
END:VEVENT
END:VCALENDAR
