BEGIN:VCALENDAR
PRODID:-//eluceo/ical//2.0/EN
VERSION:2.0
CALSCALE:GREGORIAN
BEGIN:VEVENT
UID:6719b652d8879d6b693586eca8c112c0
DTSTAMP:20260423T162639Z
SUMMARY:BT Gala
DESCRIPTION:Jewish Federation of Greater Naples\nCommunity Calendar\nhttps:
 //jewishnaples.org/calendar/bt-gala-1683809228\n\nBT will be celebrating o
 ur anniversary at Grey Oaks with a gala event.
DTSTART;TZID=America/New_York:20250319T183000
DTEND;TZID=America/New_York:20250319T223000
END:VEVENT
END:VCALENDAR
