BEGIN:VCALENDAR
PRODID:-//eluceo/ical//2.0/EN
VERSION:2.0
CALSCALE:GREGORIAN
BEGIN:VEVENT
UID:192899708fee612100bc22f21e6f5477
DTSTAMP:20260422T204035Z
SUMMARY:BT Friday Shabbat Services
DESCRIPTION:Jewish Federation of Greater Naples\nCommunity Calendar\nhttps:
 //jewishnaples.org/calendar/bt-friday-shabbat-services\n\nBeth Tikvah Frid
 ay Shabbat Services
DTSTART;TZID=America/New_York:20170526T181500
DTEND;TZID=America/New_York:20170526T201500
END:VEVENT
END:VCALENDAR
