BEGIN:VCALENDAR
PRODID:-//eluceo/ical//2.0/EN
VERSION:2.0
CALSCALE:GREGORIAN
BEGIN:VEVENT
UID:d32e67af6663d852452c625a2a47a515
DTSTAMP:20260422T233603Z
SUMMARY:BT Friday Services
DESCRIPTION:Jewish Federation of Greater Naples\nCommunity Calendar\nhttps:
 //jewishnaples.org/calendar/bt-friday-services-1559313086\n\nBeth Tikvah F
 riday Shabbat Services
DTSTART;TZID=America/New_York:20190705T181500
DTEND;TZID=America/New_York:20190705T201500
END:VEVENT
END:VCALENDAR
