BEGIN:VCALENDAR
PRODID:-//eluceo/ical//2.0/EN
VERSION:2.0
CALSCALE:GREGORIAN
BEGIN:VEVENT
UID:848b4b6dfa203fbda4a3a4308203d030
DTSTAMP:20260423T174053Z
SUMMARY:BT Film October
DESCRIPTION:Jewish Federation of Greater Naples\nCommunity Calendar\nhttps:
 //jewishnaples.org/calendar/bt-film-october\n\nBeth Tikvah
DTSTART;TZID=America/New_York:20161027T193000
DTEND;TZID=America/New_York:20161027T193000
END:VEVENT
END:VCALENDAR
