BEGIN:VCALENDAR
PRODID:-//eluceo/ical//2.0/EN
VERSION:2.0
CALSCALE:GREGORIAN
BEGIN:VEVENT
UID:ace9ef39c0869738e2c6d26850124c3a
DTSTAMP:20260421T020950Z
SUMMARY:BT Film April
DESCRIPTION:Jewish Federation of Greater Naples\nCommunity Calendar\nhttps:
 //jewishnaples.org/calendar/bt-film-april\n\nBeth Tikvah
DTSTART;TZID=America/New_York:20170427T193000
DTEND;TZID=America/New_York:20170427T193000
END:VEVENT
END:VCALENDAR
