BEGIN:VCALENDAR
PRODID:-//eluceo/ical//2.0/EN
VERSION:2.0
CALSCALE:GREGORIAN
BEGIN:VEVENT
UID:fa54d1ed5a6b580842735c7f2fe7f0d3
DTSTAMP:20260423T185245Z
SUMMARY:BT Film
DESCRIPTION:Jewish Federation of Greater Naples\nCommunity Calendar\nhttps:
 //jewishnaples.org/calendar/bt-film-1561038709\n\nBeth Tikvah\nFilm
DTSTART;TZID=America/New_York:20200618T110000
DTEND;TZID=America/New_York:20200618T130000
END:VEVENT
END:VCALENDAR
