BEGIN:VCALENDAR
PRODID:-//eluceo/ical//2.0/EN
VERSION:2.0
CALSCALE:GREGORIAN
BEGIN:VEVENT
UID:be46554852c80c6e4826a0a09373dd8c
DTSTAMP:20260422T184118Z
SUMMARY:BT event
DESCRIPTION:Jewish Federation of Greater Naples\nCommunity Calendar\nhttps:
 //jewishnaples.org/calendar/bt-event-5\n\nBeth Tikvah
DTSTART;TZID=America/New_York:20181219T193000
DTEND;TZID=America/New_York:20181219T213000
END:VEVENT
END:VCALENDAR
