BEGIN:VCALENDAR
PRODID:-//eluceo/ical//2.0/EN
VERSION:2.0
CALSCALE:GREGORIAN
BEGIN:VEVENT
UID:8d37b008151973bb5c8f970f3d659f2e
DTSTAMP:20260423T160414Z
SUMMARY:BT Event
DESCRIPTION:Jewish Federation of Greater Naples\nCommunity Calendar\nhttps:
 //jewishnaples.org/calendar/bt-event-10\n\nBeth Tikvah
DTSTART;TZID=America/New_York:20190117T193000
DTEND;TZID=America/New_York:20190117T213000
END:VEVENT
END:VCALENDAR
