BEGIN:VCALENDAR
PRODID:-//eluceo/ical//2.0/EN
VERSION:2.0
CALSCALE:GREGORIAN
BEGIN:VEVENT
UID:bb4555dcafc5050d9c783e617d0a3fa6
DTSTAMP:20260423T131650Z
SUMMARY:BT Event
DESCRIPTION:Jewish Federation of Greater Naples\nCommunity Calendar\nhttps:
 //jewishnaples.org/calendar/bt-event-1\n\nBeth Tikvah
DTSTART;TZID=America/New_York:20181025T193000
DTEND;TZID=America/New_York:20181025T213000
END:VEVENT
END:VCALENDAR
