BEGIN:VCALENDAR
PRODID:-//eluceo/ical//2.0/EN
VERSION:2.0
CALSCALE:GREGORIAN
BEGIN:VEVENT
UID:e5f085f8fa71068034e227a7274c5e47
DTSTAMP:20260424T102033Z
SUMMARY:BT Event
DESCRIPTION:Jewish Federation of Greater Naples\nCommunity Calendar\nhttps:
 //jewishnaples.org/calendar/bt-event--7\n\nBeth Tikvah event
DTSTART;TZID=America/New_York:20190110T193000
DTEND;TZID=America/New_York:20190110T213000
END:VEVENT
END:VCALENDAR
