BEGIN:VCALENDAR
PRODID:-//eluceo/ical//2.0/EN
VERSION:2.0
CALSCALE:GREGORIAN
BEGIN:VEVENT
UID:2d5adcd29c8d53d697b38aa8148c5cc2
DTSTAMP:20260423T120104Z
SUMMARY:BT Event
DESCRIPTION:Jewish Federation of Greater Naples\nCommunity Calendar\nhttps:
 //jewishnaples.org/calendar/bt-event\n\nBeth Tikvah
DTSTART;TZID=America/New_York:20181011T193000
DTEND;TZID=America/New_York:20181011T213000
END:VEVENT
END:VCALENDAR
