BEGIN:VCALENDAR
PRODID:-//eluceo/ical//2.0/EN
VERSION:2.0
CALSCALE:GREGORIAN
BEGIN:VEVENT
UID:a3d71c2a59c65d5b00098c547e45a1db
DTSTAMP:20260423T232424Z
SUMMARY:BT Erev Shavuot
DESCRIPTION:Jewish Federation of Greater Naples\nCommunity Calendar\nhttps:
 //jewishnaples.org/calendar/bt-erev-shavuot-1561038315\n\nBeth Tikvah
DTSTART;TZID=America/New_York:20200528T181500
DTEND;TZID=America/New_York:20200528T201500
END:VEVENT
END:VCALENDAR
