BEGIN:VCALENDAR
PRODID:-//eluceo/ical//2.0/EN
VERSION:2.0
CALSCALE:GREGORIAN
BEGIN:VEVENT
UID:b89fefcbbb1ec470363199e86914df91
DTSTAMP:20260423T165745Z
SUMMARY:BT Erev Rosh Hashanah
DESCRIPTION:Jewish Federation of Greater Naples\nCommunity Calendar\nhttps:
 //jewishnaples.org/calendar/bt-erev-rosh-hashanah-1755798927\n\nBeth Tikva
 h
DTSTART;TZID=America/New_York:20250922T181500
DTEND;TZID=America/New_York:20250922T201500
END:VEVENT
END:VCALENDAR
