BEGIN:VCALENDAR
PRODID:-//eluceo/ical//2.0/EN
VERSION:2.0
CALSCALE:GREGORIAN
BEGIN:VEVENT
UID:5f28b11aeb1c7dff265bb6c3b3b9f91d
DTSTAMP:20260420T164913Z
SUMMARY:BT Erev Pesach\, 1st Seder
DESCRIPTION:Jewish Federation of Greater Naples\nCommunity Calendar\nhttps:
 //jewishnaples.org/calendar/bt-erev-pesach-1st-seder-1588175190\n\nBeth Ti
 kvah\nErev Pesach\nCongregational First Seder
DTSTART;TZID=America/New_York:20210327T183000
DTEND;TZID=America/New_York:20210327T203000
END:VEVENT
END:VCALENDAR
