BEGIN:VCALENDAR
PRODID:-//eluceo/ical//2.0/EN
VERSION:2.0
CALSCALE:GREGORIAN
BEGIN:VEVENT
UID:8027a2ef3fdecfb10ab8a0703577a2da
DTSTAMP:20260419T225028Z
SUMMARY:BT Erev Pesach
DESCRIPTION:Jewish Federation of Greater Naples\nCommunity Calendar\nhttps:
 //jewishnaples.org/calendar/bt-erev-pesach\n\nBeth Tikvah
DTSTART;TZID=America/New_York:20170410T181500
DTEND;TZID=America/New_York:20170410T181500
END:VEVENT
END:VCALENDAR
