BEGIN:VCALENDAR
PRODID:-//eluceo/ical//2.0/EN
VERSION:2.0
CALSCALE:GREGORIAN
BEGIN:VEVENT
UID:ed4fcae216889aa919dad30a9396e007
DTSTAMP:20260422T013208Z
SUMMARY:BT Ellaine Rosen Event
DESCRIPTION:Jewish Federation of Greater Naples\nCommunity Calendar\nhttps:
 //jewishnaples.org/calendar/bt-ellaine-rosen-event-1658419891\n\nBeth Tikv
 ah
DTSTART;TZID=America/New_York:20230216T100000
DTEND;TZID=America/New_York:20230216T113000
END:VEVENT
END:VCALENDAR
