BEGIN:VCALENDAR
PRODID:-//eluceo/ical//2.0/EN
VERSION:2.0
CALSCALE:GREGORIAN
BEGIN:VEVENT
UID:ee515c1531f8421ab96fb461fd0ac6b9
DTSTAMP:20260423T225343Z
SUMMARY:BT Deli Night
DESCRIPTION:Jewish Federation of Greater Naples\nCommunity Calendar\nhttps:
 //jewishnaples.org/calendar/bt-deli-night\n\nBeth Tikvah
DTSTART;TZID=America/New_York:20181224T183000
DTEND;TZID=America/New_York:20181224T203000
END:VEVENT
END:VCALENDAR
