BEGIN:VCALENDAR
PRODID:-//eluceo/ical//2.0/EN
VERSION:2.0
CALSCALE:GREGORIAN
BEGIN:VEVENT
UID:92ce321765dbe147742a78bb0067d5d6
DTSTAMP:20260420T154658Z
SUMMARY:BT Concert
DESCRIPTION:Jewish Federation of Greater Naples\nCommunity Calendar\nhttps:
 //jewishnaples.org/calendar/bt-concert\n\nBeth Tikvah Concert
DTSTART;TZID=America/New_York:20190120T190000
DTEND;TZID=America/New_York:20190120T210000
END:VEVENT
END:VCALENDAR
