BEGIN:VCALENDAR
PRODID:-//eluceo/ical//2.0/EN
VERSION:2.0
CALSCALE:GREGORIAN
BEGIN:VEVENT
UID:67bd66ce6467a56e0dfda26185c51f91
DTSTAMP:20260422T152214Z
SUMMARY:BT Chametz Bash
DESCRIPTION:Jewish Federation of Greater Naples\nCommunity Calendar\nhttps:
 //jewishnaples.org/calendar/bt-chametz-bash-1560970209\n\nBeth Tikvah\nCha
 metz Bash
DTSTART;TZID=America/New_York:20200407T181500
DTEND;TZID=America/New_York:20200407T201500
END:VEVENT
END:VCALENDAR
