BEGIN:VCALENDAR
PRODID:-//eluceo/ical//2.0/EN
VERSION:2.0
CALSCALE:GREGORIAN
BEGIN:VEVENT
UID:a03ab05fac0fc89c723303365fd3dbca
DTSTAMP:20260424T093944Z
SUMMARY:BT Celebration March 19
DESCRIPTION:Jewish Federation of Greater Naples\nCommunity Calendar\nhttps:
 //jewishnaples.org/calendar/bt-celebration-march-19-1657896727\n\nBeth Tik
 vah Celebration
DTSTART;TZID=America/New_York:20230319T110000
DTEND;TZID=America/New_York:20230319T140000
END:VEVENT
END:VCALENDAR
