BEGIN:VCALENDAR
PRODID:-//eluceo/ical//2.0/EN
VERSION:2.0
CALSCALE:GREGORIAN
BEGIN:VEVENT
UID:4d5cb9640e0f4e17c8a594728cb45dff
DTSTAMP:20260422T024723Z
SUMMARY:BT Book Group\, Oct.
DESCRIPTION:Jewish Federation of Greater Naples\nCommunity Calendar\nhttps:
 //jewishnaples.org/calendar/bt-book-group-oct\n\nBeth Tikvah\n\nBook Group
DTSTART;TZID=America/New_York:20171030T193000
DTEND;TZID=America/New_York:20171030T210000
END:VEVENT
END:VCALENDAR
