BEGIN:VCALENDAR
PRODID:-//eluceo/ical//2.0/EN
VERSION:2.0
CALSCALE:GREGORIAN
BEGIN:VEVENT
UID:3ff2ac03655832237124597ec766e084
DTSTAMP:20260423T135302Z
SUMMARY:BT Book Discussion Group May
DESCRIPTION:Jewish Federation of Greater Naples\nCommunity Calendar\nhttps:
 //jewishnaples.org/calendar/bt-book-discussion-group-may\n\nBeth Tikvah
DTSTART;TZID=America/New_York:20170522T193000
DTEND;TZID=America/New_York:20170522T193000
END:VEVENT
END:VCALENDAR
