BEGIN:VCALENDAR
PRODID:-//eluceo/ical//2.0/EN
VERSION:2.0
CALSCALE:GREGORIAN
BEGIN:VEVENT
UID:6b9e75ffd09902177bac730574271c4c
DTSTAMP:20260423T021653Z
SUMMARY:BT Book Discussion Group Jan.
DESCRIPTION:Jewish Federation of Greater Naples\nCommunity Calendar\nhttps:
 //jewishnaples.org/calendar/bt-book-discussion-group-jan\n\nBeth Tikvah
DTSTART;TZID=America/New_York:20170123T193000
DTEND;TZID=America/New_York:20170123T193000
END:VEVENT
END:VCALENDAR
