BEGIN:VCALENDAR
PRODID:-//eluceo/ical//2.0/EN
VERSION:2.0
CALSCALE:GREGORIAN
BEGIN:VEVENT
UID:24a88ad2f767dadcb0cc56ebc19e9213
DTSTAMP:20260424T072021Z
SUMMARY:BT Book Discussion Group
DESCRIPTION:Jewish Federation of Greater Naples\nCommunity Calendar\nhttps:
 //jewishnaples.org/calendar/bt-book-discussion-group\n\nBeth Tikvah
DTSTART;TZID=America/New_York:20161219T193000
DTEND;TZID=America/New_York:20161219T193000
END:VEVENT
END:VCALENDAR
