BEGIN:VCALENDAR
PRODID:-//eluceo/ical//2.0/EN
VERSION:2.0
CALSCALE:GREGORIAN
BEGIN:VEVENT
UID:e1d9fdd75cc27e06b040e1bc0dc02104
DTSTAMP:20260423T233657Z
SUMMARY:BT Book Club in Nov.
DESCRIPTION:Jewish Federation of Greater Naples\nCommunity Calendar\nhttps:
 //jewishnaples.org/calendar/bt-book-club-in-nov\n\nBeth Tikvah\n\nBook Clu
 b
DTSTART;TZID=America/New_York:20171127T193000
DTEND;TZID=America/New_York:20171127T213000
END:VEVENT
END:VCALENDAR
