BEGIN:VCALENDAR
PRODID:-//eluceo/ical//2.0/EN
VERSION:2.0
CALSCALE:GREGORIAN
BEGIN:VEVENT
UID:568adb658565d13c1fa5535515c4b0e1
DTSTAMP:20260423T152112Z
SUMMARY:BT Board Meetings
DESCRIPTION:Jewish Federation of Greater Naples\nCommunity Calendar\nhttps:
 //jewishnaples.org/calendar/bt-board-meetings\n\nBeth Tikvah \n\nBoard Me
 etings
DTSTART;TZID=America/New_York:20180517T160000
DTEND;TZID=America/New_York:20180517T180000
END:VEVENT
END:VCALENDAR
