BEGIN:VCALENDAR
PRODID:-//eluceo/ical//2.0/EN
VERSION:2.0
CALSCALE:GREGORIAN
BEGIN:VEVENT
UID:fb3686e6a01be5e1bc8d83f77ccf6326
DTSTAMP:20260422T065223Z
SUMMARY:BT Annual Membership Meeting
DESCRIPTION:Jewish Federation of Greater Naples\nCommunity Calendar\nhttps:
 //jewishnaples.org/calendar/bt-annual-membership-meeting-1588175004\n\nBet
 h Tikvah\nAnnual Membership Meeting
DTSTART;TZID=America/New_York:20210314T120000
DTEND;TZID=America/New_York:20210314T140000
END:VEVENT
END:VCALENDAR
