BEGIN:VCALENDAR
PRODID:-//eluceo/ical//2.0/EN
VERSION:2.0
CALSCALE:GREGORIAN
BEGIN:VEVENT
UID:dc104c11e80d5c5db2c1dff2e4d85316
DTSTAMP:20260424T062119Z
SUMMARY:BT  AI and our Future
DESCRIPTION:Jewish Federation of Greater Naples\nCommunity Calendar\nhttps:
 //jewishnaples.org/calendar/bt-ai-and-our-future\n\nBeth Tikvah's Speaker 
 Series continues with Sam Geist talking to us about " AI and our Future"  
  It will begin at 7:30pm.  Free to members\, non-members are $8.00.  Come 
 and learn if our future is really frightening.
DTSTART;TZID=America/New_York:20240312T193000
DTEND;TZID=America/New_York:20240312T213000
END:VEVENT
END:VCALENDAR
