BEGIN:VCALENDAR
PRODID:-//eluceo/ical//2.0/EN
VERSION:2.0
CALSCALE:GREGORIAN
BEGIN:VEVENT
UID:2a21b0417c527551aa984b9278691ec4
DTSTAMP:20260423T210248Z
SUMMARY:Breakfast at Tiffany's
DESCRIPTION:Jewish Federation of Greater Naples\nCommunity Calendar\nhttps:
 //jewishnaples.org/calendar/breakfast-at-tiffanys-1715731730\n\nJoin us to
  Discuss “Breakfast at Tiffany’s” a timeless American romantic comed
 y directed by Blake Edwards and written by George Axelrod from Capote’s 
 1958 Novella.\nJuly 8th at 11:00am-12:30PM\nFREE\n\nRefreshments will be p
 rovided.
DTSTART;TZID=America/New_York:20240708T110000
DTEND;TZID=America/New_York:20240708T123000
END:VEVENT
END:VCALENDAR
