BEGIN:VCALENDAR
PRODID:-//eluceo/ical//2.0/EN
VERSION:2.0
CALSCALE:GREGORIAN
BEGIN:VEVENT
UID:d9cc5345c5dbc57975478a45567045ce
DTSTAMP:20260422T213942Z
SUMMARY:Brazina Doc. Film Nov 4
DESCRIPTION:Jewish Federation of Greater Naples\nCommunity Calendar\nhttps:
 //jewishnaples.org/calendar/brazina-doc-film-nov-4-1744731273\n\nDoc Film
DTSTART;TZID=America/New_York:20251104T133000
DTEND;TZID=America/New_York:20251104T153000
END:VEVENT
END:VCALENDAR
