BEGIN:VCALENDAR
PRODID:-//eluceo/ical//2.0/EN
VERSION:2.0
CALSCALE:GREGORIAN
BEGIN:VEVENT
UID:3791124b71b14199d9432ee6ba77db08
DTSTAMP:20260422T123821Z
SUMMARY:Brazina Doc Film Jan 6
DESCRIPTION:Jewish Federation of Greater Naples\nCommunity Calendar\nhttps:
 //jewishnaples.org/calendar/brazina-doc-film-jan-6-1744731432\n\nDocumenta
 ry Film
DTSTART;TZID=America/New_York:20260106T133000
DTEND;TZID=America/New_York:20260106T153000
END:VEVENT
END:VCALENDAR
